  

BEGIN:VCALENDAR
VERSION:2.0
PRODID:-//City of Circleville - ECPv6.15.20//NONSGML v1.0//EN
CALSCALE:GREGORIAN
METHOD:PUBLISH
X-ORIGINAL-URL:https://circlevilleoh.gov
X-WR-CALDESC:Events for City of Circleville
REFRESH-INTERVAL;VALUE=DURATION:PT1H
X-Robots-Tag:noindex
X-PUBLISHED-TTL:PT1H
BEGIN:VTIMEZONE
TZID:America/New_York
BEGIN:DAYLIGHT
TZOFFSETFROM:-0500
TZOFFSETTO:-0400
TZNAME:EDT
DTSTART:20240310T070000
END:DAYLIGHT
BEGIN:STANDARD
TZOFFSETFROM:-0400
TZOFFSETTO:-0500
TZNAME:EST
DTSTART:20241103T060000
END:STANDARD
BEGIN:DAYLIGHT
TZOFFSETFROM:-0500
TZOFFSETTO:-0400
TZNAME:EDT
DTSTART:20250309T070000
END:DAYLIGHT
BEGIN:STANDARD
TZOFFSETFROM:-0400
TZOFFSETTO:-0500
TZNAME:EST
DTSTART:20251102T060000
END:STANDARD
BEGIN:DAYLIGHT
TZOFFSETFROM:-0500
TZOFFSETTO:-0400
TZNAME:EDT
DTSTART:20260308T070000
END:DAYLIGHT
BEGIN:STANDARD
TZOFFSETFROM:-0400
TZOFFSETTO:-0500
TZNAME:EST
DTSTART:20261101T060000
END:STANDARD
BEGIN:DAYLIGHT
TZOFFSETFROM:-0500
TZOFFSETTO:-0400
TZNAME:EDT
DTSTART:20270314T070000
END:DAYLIGHT
BEGIN:STANDARD
TZOFFSETFROM:-0400
TZOFFSETTO:-0500
TZNAME:EST
DTSTART:20271107T060000
END:STANDARD
END:VTIMEZONE
BEGIN:VEVENT
DTSTART;TZID=America/New_York:20260421T190000
DTEND;TZID=America/New_York:20260421T200000
DTSTAMP:20260422T012345
CREATED:20251206T162827Z
LAST-MODIFIED:20251206T162827Z
UID:10001308-1776798000-1776801600@circlevilleoh.gov
SUMMARY:City Council Meeting
DESCRIPTION:
URL:https://circlevilleoh.gov/event/city-council-meeting-6/2026-04-21/
LOCATION:Council Chambers\, 127 S Court St\, Circleville\, OH\, 43113\, United States
CATEGORIES:Community
ORGANIZER;CN="Melissa Burns":MAILTO:mburns@circlevilleoh.gov
END:VEVENT
BEGIN:VEVENT
DTSTART;TZID=America/New_York:20260407T190000
DTEND;TZID=America/New_York:20260407T200000
DTSTAMP:20260422T012345
CREATED:20251206T162622Z
LAST-MODIFIED:20251206T162622Z
UID:10001284-1775588400-1775592000@circlevilleoh.gov
SUMMARY:City Council Meeting
DESCRIPTION:
URL:https://circlevilleoh.gov/event/city-council-meeting-5/2026-04-07/
LOCATION:Council Chambers\, 127 S Court St\, Circleville\, OH\, 43113\, United States
CATEGORIES:Community
ORGANIZER;CN="Melissa Burns":MAILTO:mburns@circlevilleoh.gov
END:VEVENT
BEGIN:VEVENT
DTSTART;TZID=America/New_York:20260407T180000
DTEND;TZID=America/New_York:20260407T190000
DTSTAMP:20260422T012345
CREATED:20260309T002753Z
LAST-MODIFIED:20260309T002753Z
UID:10001339-1775584800-1775588400@circlevilleoh.gov
SUMMARY:Committee of the Whole Meeting
DESCRIPTION:
URL:https://circlevilleoh.gov/event/committee-of-the-whole-meeting-11/
LOCATION:Council Chambers\, 127 S Court St\, Circleville\, OH\, 43113\, United States
CATEGORIES:Community
ORGANIZER;CN="Melissa Burns":MAILTO:mburns@circlevilleoh.gov
END:VEVENT
BEGIN:VEVENT
DTSTART;TZID=America/New_York:20260317T190000
DTEND;TZID=America/New_York:20260317T200000
DTSTAMP:20260422T012345
CREATED:20251206T162827Z
LAST-MODIFIED:20251206T162827Z
UID:10001307-1773774000-1773777600@circlevilleoh.gov
SUMMARY:City Council Meeting
DESCRIPTION:
URL:https://circlevilleoh.gov/event/city-council-meeting-6/2026-03-17/
LOCATION:Council Chambers\, 127 S Court St\, Circleville\, OH\, 43113\, United States
CATEGORIES:Community
ORGANIZER;CN="Melissa Burns":MAILTO:mburns@circlevilleoh.gov
END:VEVENT
BEGIN:VEVENT
DTSTART;TZID=America/New_York:20260317T183000
DTEND;TZID=America/New_York:20260317T190000
DTSTAMP:20260422T012345
CREATED:20260307T010432Z
LAST-MODIFIED:20260307T010432Z
UID:10001338-1773772200-1773774000@circlevilleoh.gov
SUMMARY:Finance Committee Meeting
DESCRIPTION:
URL:https://circlevilleoh.gov/event/finance-committee-meeting-32/
LOCATION:Council Chambers\, 127 S Court St\, Circleville\, OH\, 43113\, United States
CATEGORIES:Community
ORGANIZER;CN="Melissa Burns":MAILTO:mburns@circlevilleoh.gov
END:VEVENT
BEGIN:VEVENT
DTSTART;TZID=America/New_York:20260303T190000
DTEND;TZID=America/New_York:20260303T200000
DTSTAMP:20260422T012345
CREATED:20251206T162622Z
LAST-MODIFIED:20251206T162622Z
UID:10001283-1772564400-1772568000@circlevilleoh.gov
SUMMARY:City Council Meeting
DESCRIPTION:
URL:https://circlevilleoh.gov/event/city-council-meeting-5/2026-03-03/
LOCATION:Council Chambers\, 127 S Court St\, Circleville\, OH\, 43113\, United States
CATEGORIES:Community
ORGANIZER;CN="Melissa Burns":MAILTO:mburns@circlevilleoh.gov
END:VEVENT
BEGIN:VEVENT
DTSTART;TZID=America/New_York:20260217T190000
DTEND;TZID=America/New_York:20260217T200000
DTSTAMP:20260422T012345
CREATED:20251206T162827Z
LAST-MODIFIED:20251206T162827Z
UID:10001306-1771354800-1771358400@circlevilleoh.gov
SUMMARY:City Council Meeting
DESCRIPTION:
URL:https://circlevilleoh.gov/event/city-council-meeting-6/2026-02-17/
LOCATION:Council Chambers\, 127 S Court St\, Circleville\, OH\, 43113\, United States
CATEGORIES:Community
ORGANIZER;CN="Melissa Burns":MAILTO:mburns@circlevilleoh.gov
END:VEVENT
BEGIN:VEVENT
DTSTART;TZID=America/New_York:20260210T180000
DTEND;TZID=America/New_York:20260210T190000
DTSTAMP:20260422T012345
CREATED:20260207T151310Z
LAST-MODIFIED:20260207T151310Z
UID:10001330-1770746400-1770750000@circlevilleoh.gov
SUMMARY:Finance Committee Meeting
DESCRIPTION:
URL:https://circlevilleoh.gov/event/finance-committee-meeting-31/
LOCATION:Council Chambers\, 127 S Court St\, Circleville\, OH\, 43113\, United States
CATEGORIES:Community
ORGANIZER;CN="Melissa Burns":MAILTO:mburns@circlevilleoh.gov
END:VEVENT
BEGIN:VEVENT
DTSTART;TZID=America/New_York:20260203T190000
DTEND;TZID=America/New_York:20260203T200000
DTSTAMP:20260422T012345
CREATED:20251206T162622Z
LAST-MODIFIED:20251206T162622Z
UID:10001282-1770145200-1770148800@circlevilleoh.gov
SUMMARY:City Council Meeting
DESCRIPTION:
URL:https://circlevilleoh.gov/event/city-council-meeting-5/2026-02-03/
LOCATION:Council Chambers\, 127 S Court St\, Circleville\, OH\, 43113\, United States
CATEGORIES:Community
ORGANIZER;CN="Melissa Burns":MAILTO:mburns@circlevilleoh.gov
END:VEVENT
BEGIN:VEVENT
DTSTART;TZID=America/New_York:20260120T190000
DTEND;TZID=America/New_York:20260120T200000
DTSTAMP:20260422T012345
CREATED:20251206T162827Z
LAST-MODIFIED:20251206T162827Z
UID:10001305-1768935600-1768939200@circlevilleoh.gov
SUMMARY:City Council Meeting
DESCRIPTION:
URL:https://circlevilleoh.gov/event/city-council-meeting-6/2026-01-20/
LOCATION:Council Chambers\, 127 S Court St\, Circleville\, OH\, 43113\, United States
CATEGORIES:Community
ORGANIZER;CN="Melissa Burns":MAILTO:mburns@circlevilleoh.gov
END:VEVENT
BEGIN:VEVENT
DTSTART;TZID=America/New_York:20260114T180000
DTEND;TZID=America/New_York:20260114T190000
DTSTAMP:20260422T012345
CREATED:20251219T230011Z
LAST-MODIFIED:20251219T230011Z
UID:10001317-1768413600-1768417200@circlevilleoh.gov
SUMMARY:Committee of the Whole Meeting
DESCRIPTION:
URL:https://circlevilleoh.gov/event/committee-of-the-whole-meeting-10/
LOCATION:Council Chambers\, 127 S Court St\, Circleville\, OH\, 43113\, United States
CATEGORIES:Community
ORGANIZER;CN="Melissa Burns":MAILTO:mburns@circlevilleoh.gov
END:VEVENT
BEGIN:VEVENT
DTSTART;TZID=America/New_York:20260106T190000
DTEND;TZID=America/New_York:20260106T200000
DTSTAMP:20260422T012345
CREATED:20251206T162622Z
LAST-MODIFIED:20251206T162622Z
UID:10001281-1767726000-1767729600@circlevilleoh.gov
SUMMARY:City Council Meeting
DESCRIPTION:
URL:https://circlevilleoh.gov/event/city-council-meeting-5/2026-01-06/
LOCATION:Council Chambers\, 127 S Court St\, Circleville\, OH\, 43113\, United States
CATEGORIES:Community
ORGANIZER;CN="Melissa Burns":MAILTO:mburns@circlevilleoh.gov
END:VEVENT
BEGIN:VEVENT
DTSTART;TZID=America/New_York:20251216T190000
DTEND;TZID=America/New_York:20251216T200000
DTSTAMP:20260422T012345
CREATED:20241205T013830Z
LAST-MODIFIED:20241222T151019Z
UID:10000900-1765911600-1765915200@circlevilleoh.gov
SUMMARY:City Council Meeting
DESCRIPTION:
URL:https://circlevilleoh.gov/event/city-council-meeting-3/2025-12-16/
LOCATION:Council Chambers\, 127 S Court St\, Circleville\, OH\, 43113\, United States
CATEGORIES:Community
ORGANIZER;CN="Melissa Burns":MAILTO:mburns@circlevilleoh.gov
END:VEVENT
BEGIN:VEVENT
DTSTART;TZID=America/New_York:20251216T180000
DTEND;TZID=America/New_York:20251216T190000
DTSTAMP:20260422T012345
CREATED:20251108T010837Z
LAST-MODIFIED:20251108T010837Z
UID:10001256-1765908000-1765911600@circlevilleoh.gov
SUMMARY:Public Hearings to hear Zoning Amendments/Rezonings
DESCRIPTION:Public Hearings to be held on December 16\, 2025\, at 6:00 p.m. \nCircleville City Council will hold a Public Hearing Tuesday\, December 16\, 2025\, at 6:00 p.m. in Council Chambers located in the City Hall Building\, 127 S. Court Street\, 2nd FL\, Circleville\, OH 43113. The Public Hearing will be to hear the following requests: \nZoning Amendment/ Rezoning #3-25 as requested by the City of Circleville located at Parcel ID#: A05-1-028-00-017-00. The applicant is seeking to rezone 460 N Pickaway St. from LDR (Low Density Residential) to CS (Community Service). \nZoning Amendment/Rezoning #4-25 as requested by the City of Circleville located at Parcel ID: A37-0-001-00-003-01. The applicant is seeking to rezone 0 N Court St. From AG (Agricultural) to CS (Community Service). \nA copy of the Planning & Zoning meeting minutes and all pertinent data regarding the proposed changes are on file and available for public inspection at the Circleville Planning and Zoning Office\, City Administration Building\, 104 East Franklin St.\, Circleville\, Ohio\, 43113. \nOffice hours are Monday – Friday 7:30 a.m. – 4:00 p.m.\, excluding holidays. (740-477-8224) \nClerk Melissa Burns\, mburns@circlevilleoh.gov
URL:https://circlevilleoh.gov/event/public-hearings-to-hear-zoning-amendments-rezonings/
LOCATION:Council Chambers\, 127 S Court St\, Circleville\, OH\, 43113\, United States
CATEGORIES:Community
ORGANIZER;CN="Melissa Burns":MAILTO:mburns@circlevilleoh.gov
END:VEVENT
BEGIN:VEVENT
DTSTART;TZID=America/New_York:20251202T190000
DTEND;TZID=America/New_York:20251202T200000
DTSTAMP:20260422T012345
CREATED:20241205T013537Z
LAST-MODIFIED:20241222T151142Z
UID:10000911-1764702000-1764705600@circlevilleoh.gov
SUMMARY:City Council Meeting
DESCRIPTION:
URL:https://circlevilleoh.gov/event/city-council-meeting-2/2025-12-02/
LOCATION:Council Chambers\, 127 S Court St\, Circleville\, OH\, 43113\, United States
CATEGORIES:Community
ORGANIZER;CN="Melissa Burns":MAILTO:mburns@circlevilleoh.gov
END:VEVENT
BEGIN:VEVENT
DTSTART;TZID=America/New_York:20251202T183000
DTEND;TZID=America/New_York:20251202T193000
DTSTAMP:20260422T012345
CREATED:20251123T222556Z
LAST-MODIFIED:20251123T222556Z
UID:10001261-1764700200-1764703800@circlevilleoh.gov
SUMMARY:Finance Committee Meeting
DESCRIPTION:
URL:https://circlevilleoh.gov/event/finance-committee-meeting-30/
LOCATION:Council Chambers\, 127 S Court St\, Circleville\, OH\, 43113\, United States
CATEGORIES:Community
ORGANIZER;CN="Melissa Burns":MAILTO:mburns@circlevilleoh.gov
END:VEVENT
BEGIN:VEVENT
DTSTART;TZID=America/New_York:20251202T180000
DTEND;TZID=America/New_York:20251202T190000
DTSTAMP:20260422T012345
CREATED:20251113T012214Z
LAST-MODIFIED:20251114T014134Z
UID:10001259-1764698400-1764702000@circlevilleoh.gov
SUMMARY:Committee of the Whole Meeting
DESCRIPTION:
URL:https://circlevilleoh.gov/event/committee-of-the-whole-meeting-9/
LOCATION:Council Chambers\, 127 S Court St\, Circleville\, OH\, 43113\, United States
CATEGORIES:Community
ORGANIZER;CN="Melissa Burns":MAILTO:mburns@circlevilleoh.gov
END:VEVENT
BEGIN:VEVENT
DTSTART;TZID=America/New_York:20251118T191500
DTEND;TZID=America/New_York:20251118T193000
DTSTAMP:20260422T012345
CREATED:20251113T012048Z
LAST-MODIFIED:20251113T012048Z
UID:10001258-1763493300-1763494200@circlevilleoh.gov
SUMMARY:Finance Committee Meeting
DESCRIPTION:
URL:https://circlevilleoh.gov/event/finance-committee-meeting-29/
LOCATION:Council Chambers\, 127 S Court St\, Circleville\, OH\, 43113\, United States
CATEGORIES:Community
ORGANIZER;CN="Melissa Burns":MAILTO:mburns@circlevilleoh.gov
END:VEVENT
BEGIN:VEVENT
DTSTART;TZID=America/New_York:20251118T190000
DTEND;TZID=America/New_York:20251118T200000
DTSTAMP:20260422T012345
CREATED:20241205T013830Z
LAST-MODIFIED:20241222T151019Z
UID:10000899-1763492400-1763496000@circlevilleoh.gov
SUMMARY:City Council Meeting
DESCRIPTION:
URL:https://circlevilleoh.gov/event/city-council-meeting-3/2025-11-18/
LOCATION:Council Chambers\, 127 S Court St\, Circleville\, OH\, 43113\, United States
CATEGORIES:Community
ORGANIZER;CN="Melissa Burns":MAILTO:mburns@circlevilleoh.gov
END:VEVENT
BEGIN:VEVENT
DTSTART;TZID=America/New_York:20251112T183000
DTEND;TZID=America/New_York:20251112T190000
DTSTAMP:20260422T012345
CREATED:20251017T235930Z
LAST-MODIFIED:20251017T235930Z
UID:10001252-1762972200-1762974000@circlevilleoh.gov
SUMMARY:Finance Committee Meeting
DESCRIPTION:
URL:https://circlevilleoh.gov/event/finance-committee-meeting-28/
LOCATION:Council Chambers\, 127 S Court St\, Circleville\, OH\, 43113\, United States
CATEGORIES:Community
ORGANIZER;CN="Melissa Burns":MAILTO:mburns@circlevilleoh.gov
END:VEVENT
BEGIN:VEVENT
DTSTART;TZID=America/New_York:20251104T190000
DTEND;TZID=America/New_York:20251104T200000
DTSTAMP:20260422T012345
CREATED:20241205T013537Z
LAST-MODIFIED:20241222T151142Z
UID:10000910-1762282800-1762286400@circlevilleoh.gov
SUMMARY:City Council Meeting
DESCRIPTION:
URL:https://circlevilleoh.gov/event/city-council-meeting-2/2025-11-04/
LOCATION:Council Chambers\, 127 S Court St\, Circleville\, OH\, 43113\, United States
CATEGORIES:Community
ORGANIZER;CN="Melissa Burns":MAILTO:mburns@circlevilleoh.gov
END:VEVENT
BEGIN:VEVENT
DTSTART;TZID=America/New_York:20251104T183000
DTEND;TZID=America/New_York:20251104T190000
DTSTAMP:20260422T012345
CREATED:20250926T110908Z
LAST-MODIFIED:20250926T110908Z
UID:10001073-1762281000-1762282800@circlevilleoh.gov
SUMMARY:Public Hearing/Changing Criminal Penalties to Civil Penalties for Code Violations
DESCRIPTION:Public Hearings to be held on November 4\, 2025\, at 6:30 p.m.  \nCircleville City Council will hold a Public Hearing Tuesday\, November 4\, 2025\, at 6:30 p.m. in Council Chambers located in the City Hall Building\, 127 S. Court Street\, 2nd FL\, Circleville\, OH 43113. The Public Hearing will be to hear the following request: Gather public input on changing from criminal penalties to civil penalties for code violations. \nMelissa Burns\, Clerk \nmburns@circlevilleoh.gov
URL:https://circlevilleoh.gov/event/public-hearing-changing-criminal-penalties-to-civil-penalties-for-code-violations/
LOCATION:Council Chambers\, 127 S Court St\, Circleville\, OH\, 43113\, United States
CATEGORIES:Community
ORGANIZER;CN="Melissa Burns":MAILTO:mburns@circlevilleoh.gov
END:VEVENT
BEGIN:VEVENT
DTSTART;TZID=America/New_York:20251021T190000
DTEND;TZID=America/New_York:20251021T200000
DTSTAMP:20260422T012345
CREATED:20241205T013830Z
LAST-MODIFIED:20241222T151019Z
UID:10000898-1761073200-1761076800@circlevilleoh.gov
SUMMARY:City Council Meeting
DESCRIPTION:
URL:https://circlevilleoh.gov/event/city-council-meeting-3/2025-10-21/
LOCATION:Council Chambers\, 127 S Court St\, Circleville\, OH\, 43113\, United States
CATEGORIES:Community
ORGANIZER;CN="Melissa Burns":MAILTO:mburns@circlevilleoh.gov
END:VEVENT
BEGIN:VEVENT
DTSTART;TZID=America/New_York:20251007T190000
DTEND;TZID=America/New_York:20251007T200000
DTSTAMP:20260422T012345
CREATED:20241205T013537Z
LAST-MODIFIED:20241222T151142Z
UID:10000909-1759863600-1759867200@circlevilleoh.gov
SUMMARY:City Council Meeting
DESCRIPTION:
URL:https://circlevilleoh.gov/event/city-council-meeting-2/2025-10-07/
LOCATION:Council Chambers\, 127 S Court St\, Circleville\, OH\, 43113\, United States
CATEGORIES:Community
ORGANIZER;CN="Melissa Burns":MAILTO:mburns@circlevilleoh.gov
END:VEVENT
BEGIN:VEVENT
DTSTART;TZID=America/New_York:20251007T183000
DTEND;TZID=America/New_York:20251007T190000
DTSTAMP:20260422T012345
CREATED:20250916T225122Z
LAST-MODIFIED:20251003T183026Z
UID:10001067-1759861800-1759863600@circlevilleoh.gov
SUMMARY:Finance Committee Meeting
DESCRIPTION:
URL:https://circlevilleoh.gov/event/finance-committee-meeting-27/
LOCATION:Council Chambers\, 127 S Court St\, Circleville\, OH\, 43113\, United States
CATEGORIES:Community
ORGANIZER;CN="Melissa Burns":MAILTO:mburns@circlevilleoh.gov
END:VEVENT
BEGIN:VEVENT
DTSTART;TZID=America/New_York:20251007T181500
DTEND;TZID=America/New_York:20251007T183000
DTSTAMP:20260422T012345
CREATED:20251003T183145Z
LAST-MODIFIED:20251003T183145Z
UID:10001077-1759860900-1759861800@circlevilleoh.gov
SUMMARY:Safety Committee Meeting
DESCRIPTION:
URL:https://circlevilleoh.gov/event/safety-committee-meeting-11/
LOCATION:Council Chambers\, 127 S Court St\, Circleville\, OH\, 43113\, United States
CATEGORIES:Community
ORGANIZER;CN="Melissa Burns":MAILTO:mburns@circlevilleoh.gov
END:VEVENT
BEGIN:VEVENT
DTSTART;TZID=America/New_York:20250922T173000
DTEND;TZID=America/New_York:20250922T180000
DTSTAMP:20260422T012345
CREATED:20250916T233544Z
LAST-MODIFIED:20250916T233544Z
UID:10001070-1758562200-1758564000@circlevilleoh.gov
SUMMARY:Historic Review Board
DESCRIPTION:The City of Circleville Historic District Review Board will hold a Public Hearing on Monday\, September 22\, 2025\, at 5:30 p.m. in City Hall Council Chambers 2nd Fl\, 127 South Court Street\, Circleville\, OH 43113\, to hear the following requests: \nCERTIFICATE OF APPROPRIATENESS #5-25; Requested by ERA Martin & Associates Real Estate. Property address: 123 W. Main Street\, Circleville\, Ohio 43113. Parcel # A05-3-060-00-014-00. Property owner: J & P Rental Properties LLC. Modify: Removing existing ERA Martin & Associates sign from 118 E. Main Street and relocating it to the new building located at 123 W. Main Street. This is in the Downtown Business District (DB) within Historic District Overlay (HD). \nThe application and plans are available for inspection for a period of at least 10 days prior to the hearing at the City of Circleville Service Department\, 104 East Franklin St.\, Circleville\, OH 43113. \nClerk: Sarah Kolesar- skolesar@circleville.oh.gov \n 
URL:https://circlevilleoh.gov/event/historic-review-board-7/
LOCATION:Council Chambers\, 127 S Court St\, Circleville\, OH\, 43113\, United States
CATEGORIES:Community
ORGANIZER;CN="Melissa Burns":MAILTO:mburns@circlevilleoh.gov
END:VEVENT
BEGIN:VEVENT
DTSTART;TZID=America/New_York:20250917T180000
DTEND;TZID=America/New_York:20250917T183000
DTSTAMP:20260422T012345
CREATED:20250916T215548Z
LAST-MODIFIED:20250916T215548Z
UID:10001066-1758132000-1758133800@circlevilleoh.gov
SUMMARY:Judicial Committee Meeting
DESCRIPTION:
URL:https://circlevilleoh.gov/event/judicial-committee-meeting-26/
LOCATION:Council Chambers\, 127 S Court St\, Circleville\, OH\, 43113\, United States
CATEGORIES:Community
ORGANIZER;CN="Melissa Burns":MAILTO:mburns@circlevilleoh.gov
END:VEVENT
BEGIN:VEVENT
DTSTART;TZID=America/New_York:20250916T190000
DTEND;TZID=America/New_York:20250916T200000
DTSTAMP:20260422T012345
CREATED:20241205T013830Z
LAST-MODIFIED:20241222T151019Z
UID:10000897-1758049200-1758052800@circlevilleoh.gov
SUMMARY:City Council Meeting
DESCRIPTION:
URL:https://circlevilleoh.gov/event/city-council-meeting-3/2025-09-16/
LOCATION:Council Chambers\, 127 S Court St\, Circleville\, OH\, 43113\, United States
CATEGORIES:Community
ORGANIZER;CN="Melissa Burns":MAILTO:mburns@circlevilleoh.gov
END:VEVENT
BEGIN:VEVENT
DTSTART;TZID=America/New_York:20250916T180000
DTEND;TZID=America/New_York:20250916T190000
DTSTAMP:20260422T012345
CREATED:20250613T004459Z
LAST-MODIFIED:20250613T004459Z
UID:10001040-1758045600-1758049200@circlevilleoh.gov
SUMMARY:Committee of the Whole Meeting
DESCRIPTION:
URL:https://circlevilleoh.gov/event/committee-of-the-whole-meeting-7/
LOCATION:Council Chambers\, 127 S Court St\, Circleville\, OH\, 43113\, United States
CATEGORIES:Community
ORGANIZER;CN="Melissa Burns":MAILTO:mburns@circlevilleoh.gov
END:VEVENT
END:VCALENDAR