  

BEGIN:VCALENDAR
VERSION:2.0
PRODID:-//City of Circleville - ECPv6.15.20//NONSGML v1.0//EN
CALSCALE:GREGORIAN
METHOD:PUBLISH
X-WR-CALNAME:City of Circleville
X-ORIGINAL-URL:https://circlevilleoh.gov
X-WR-CALDESC:Events for City of Circleville
REFRESH-INTERVAL;VALUE=DURATION:PT1H
X-Robots-Tag:noindex
X-PUBLISHED-TTL:PT1H
BEGIN:VTIMEZONE
TZID:America/New_York
BEGIN:DAYLIGHT
TZOFFSETFROM:-0500
TZOFFSETTO:-0400
TZNAME:EDT
DTSTART:20250309T070000
END:DAYLIGHT
BEGIN:STANDARD
TZOFFSETFROM:-0400
TZOFFSETTO:-0500
TZNAME:EST
DTSTART:20251102T060000
END:STANDARD
BEGIN:DAYLIGHT
TZOFFSETFROM:-0500
TZOFFSETTO:-0400
TZNAME:EDT
DTSTART:20260308T070000
END:DAYLIGHT
BEGIN:STANDARD
TZOFFSETFROM:-0400
TZOFFSETTO:-0500
TZNAME:EST
DTSTART:20261101T060000
END:STANDARD
BEGIN:DAYLIGHT
TZOFFSETFROM:-0500
TZOFFSETTO:-0400
TZNAME:EDT
DTSTART:20270314T070000
END:DAYLIGHT
BEGIN:STANDARD
TZOFFSETFROM:-0400
TZOFFSETTO:-0500
TZNAME:EST
DTSTART:20271107T060000
END:STANDARD
END:VTIMEZONE
BEGIN:VEVENT
DTSTART;TZID=America/New_York:20260505T190000
DTEND;TZID=America/New_York:20260505T200000
DTSTAMP:20260422T010948
CREATED:20251206T162622Z
LAST-MODIFIED:20251206T162622Z
UID:10001285-1778007600-1778011200@circlevilleoh.gov
SUMMARY:City Council Meeting
DESCRIPTION:
URL:https://circlevilleoh.gov/event/city-council-meeting-5/2026-05-05/
LOCATION:Council Chambers\, 127 S Court St\, Circleville\, OH\, 43113\, United States
CATEGORIES:Community
ORGANIZER;CN="Melissa Burns":MAILTO:mburns@circlevilleoh.gov
END:VEVENT
BEGIN:VEVENT
DTSTART;TZID=America/New_York:20260519T190000
DTEND;TZID=America/New_York:20260519T200000
DTSTAMP:20260422T010948
CREATED:20251206T162827Z
LAST-MODIFIED:20251206T162827Z
UID:10001309-1779217200-1779220800@circlevilleoh.gov
SUMMARY:City Council Meeting
DESCRIPTION:
URL:https://circlevilleoh.gov/event/city-council-meeting-6/2026-05-19/
LOCATION:Council Chambers\, 127 S Court St\, Circleville\, OH\, 43113\, United States
CATEGORIES:Community
ORGANIZER;CN="Melissa Burns":MAILTO:mburns@circlevilleoh.gov
END:VEVENT
BEGIN:VEVENT
DTSTART;TZID=America/New_York:20260602T190000
DTEND;TZID=America/New_York:20260602T200000
DTSTAMP:20260422T010948
CREATED:20251206T162622Z
LAST-MODIFIED:20251206T162622Z
UID:10001286-1780426800-1780430400@circlevilleoh.gov
SUMMARY:City Council Meeting
DESCRIPTION:
URL:https://circlevilleoh.gov/event/city-council-meeting-5/2026-06-02/
LOCATION:Council Chambers\, 127 S Court St\, Circleville\, OH\, 43113\, United States
CATEGORIES:Community
ORGANIZER;CN="Melissa Burns":MAILTO:mburns@circlevilleoh.gov
END:VEVENT
BEGIN:VEVENT
DTSTART;TZID=America/New_York:20260616T190000
DTEND;TZID=America/New_York:20260616T200000
DTSTAMP:20260422T010948
CREATED:20251206T162827Z
LAST-MODIFIED:20251206T162827Z
UID:10001310-1781636400-1781640000@circlevilleoh.gov
SUMMARY:City Council Meeting
DESCRIPTION:
URL:https://circlevilleoh.gov/event/city-council-meeting-6/2026-06-16/
LOCATION:Council Chambers\, 127 S Court St\, Circleville\, OH\, 43113\, United States
CATEGORIES:Community
ORGANIZER;CN="Melissa Burns":MAILTO:mburns@circlevilleoh.gov
END:VEVENT
BEGIN:VEVENT
DTSTART;TZID=America/New_York:20260707T190000
DTEND;TZID=America/New_York:20260707T200000
DTSTAMP:20260422T010948
CREATED:20251206T162622Z
LAST-MODIFIED:20251206T162622Z
UID:10001287-1783450800-1783454400@circlevilleoh.gov
SUMMARY:City Council Meeting
DESCRIPTION:
URL:https://circlevilleoh.gov/event/city-council-meeting-5/2026-07-07/
LOCATION:Council Chambers\, 127 S Court St\, Circleville\, OH\, 43113\, United States
CATEGORIES:Community
ORGANIZER;CN="Melissa Burns":MAILTO:mburns@circlevilleoh.gov
END:VEVENT
BEGIN:VEVENT
DTSTART;TZID=America/New_York:20260721T190000
DTEND;TZID=America/New_York:20260721T200000
DTSTAMP:20260422T010948
CREATED:20251206T162827Z
LAST-MODIFIED:20251206T162827Z
UID:10001311-1784660400-1784664000@circlevilleoh.gov
SUMMARY:City Council Meeting
DESCRIPTION:
URL:https://circlevilleoh.gov/event/city-council-meeting-6/2026-07-21/
LOCATION:Council Chambers\, 127 S Court St\, Circleville\, OH\, 43113\, United States
CATEGORIES:Community
ORGANIZER;CN="Melissa Burns":MAILTO:mburns@circlevilleoh.gov
END:VEVENT
BEGIN:VEVENT
DTSTART;TZID=America/New_York:20260804T190000
DTEND;TZID=America/New_York:20260804T200000
DTSTAMP:20260422T010948
CREATED:20251206T162622Z
LAST-MODIFIED:20251206T162622Z
UID:10001288-1785870000-1785873600@circlevilleoh.gov
SUMMARY:City Council Meeting
DESCRIPTION:
URL:https://circlevilleoh.gov/event/city-council-meeting-5/2026-08-04/
LOCATION:Council Chambers\, 127 S Court St\, Circleville\, OH\, 43113\, United States
CATEGORIES:Community
ORGANIZER;CN="Melissa Burns":MAILTO:mburns@circlevilleoh.gov
END:VEVENT
BEGIN:VEVENT
DTSTART;TZID=America/New_York:20260818T190000
DTEND;TZID=America/New_York:20260818T200000
DTSTAMP:20260422T010948
CREATED:20251206T162827Z
LAST-MODIFIED:20251206T162827Z
UID:10001312-1787079600-1787083200@circlevilleoh.gov
SUMMARY:City Council Meeting
DESCRIPTION:
URL:https://circlevilleoh.gov/event/city-council-meeting-6/2026-08-18/
LOCATION:Council Chambers\, 127 S Court St\, Circleville\, OH\, 43113\, United States
CATEGORIES:Community
ORGANIZER;CN="Melissa Burns":MAILTO:mburns@circlevilleoh.gov
END:VEVENT
BEGIN:VEVENT
DTSTART;TZID=America/New_York:20260901T190000
DTEND;TZID=America/New_York:20260901T200000
DTSTAMP:20260422T010948
CREATED:20251206T162622Z
LAST-MODIFIED:20251206T162622Z
UID:10001289-1788289200-1788292800@circlevilleoh.gov
SUMMARY:City Council Meeting
DESCRIPTION:
URL:https://circlevilleoh.gov/event/city-council-meeting-5/2026-09-01/
LOCATION:Council Chambers\, 127 S Court St\, Circleville\, OH\, 43113\, United States
CATEGORIES:Community
ORGANIZER;CN="Melissa Burns":MAILTO:mburns@circlevilleoh.gov
END:VEVENT
BEGIN:VEVENT
DTSTART;TZID=America/New_York:20260915T190000
DTEND;TZID=America/New_York:20260915T200000
DTSTAMP:20260422T010948
CREATED:20251206T162827Z
LAST-MODIFIED:20251206T162827Z
UID:10001313-1789498800-1789502400@circlevilleoh.gov
SUMMARY:City Council Meeting
DESCRIPTION:
URL:https://circlevilleoh.gov/event/city-council-meeting-6/2026-09-15/
LOCATION:Council Chambers\, 127 S Court St\, Circleville\, OH\, 43113\, United States
CATEGORIES:Community
ORGANIZER;CN="Melissa Burns":MAILTO:mburns@circlevilleoh.gov
END:VEVENT
BEGIN:VEVENT
DTSTART;TZID=America/New_York:20261006T190000
DTEND;TZID=America/New_York:20261006T200000
DTSTAMP:20260422T010948
CREATED:20251206T162622Z
LAST-MODIFIED:20251206T162622Z
UID:10001290-1791313200-1791316800@circlevilleoh.gov
SUMMARY:City Council Meeting
DESCRIPTION:
URL:https://circlevilleoh.gov/event/city-council-meeting-5/2026-10-06/
LOCATION:Council Chambers\, 127 S Court St\, Circleville\, OH\, 43113\, United States
CATEGORIES:Community
ORGANIZER;CN="Melissa Burns":MAILTO:mburns@circlevilleoh.gov
END:VEVENT
BEGIN:VEVENT
DTSTART;TZID=America/New_York:20261020T190000
DTEND;TZID=America/New_York:20261020T200000
DTSTAMP:20260422T010948
CREATED:20251206T162827Z
LAST-MODIFIED:20251206T162827Z
UID:10001314-1792522800-1792526400@circlevilleoh.gov
SUMMARY:City Council Meeting
DESCRIPTION:
URL:https://circlevilleoh.gov/event/city-council-meeting-6/2026-10-20/
LOCATION:Council Chambers\, 127 S Court St\, Circleville\, OH\, 43113\, United States
CATEGORIES:Community
ORGANIZER;CN="Melissa Burns":MAILTO:mburns@circlevilleoh.gov
END:VEVENT
BEGIN:VEVENT
DTSTART;TZID=America/New_York:20261103T190000
DTEND;TZID=America/New_York:20261103T200000
DTSTAMP:20260422T010948
CREATED:20251206T162622Z
LAST-MODIFIED:20251206T162622Z
UID:10001291-1793732400-1793736000@circlevilleoh.gov
SUMMARY:City Council Meeting
DESCRIPTION:
URL:https://circlevilleoh.gov/event/city-council-meeting-5/2026-11-03/
LOCATION:Council Chambers\, 127 S Court St\, Circleville\, OH\, 43113\, United States
CATEGORIES:Community
ORGANIZER;CN="Melissa Burns":MAILTO:mburns@circlevilleoh.gov
END:VEVENT
BEGIN:VEVENT
DTSTART;TZID=America/New_York:20261117T190000
DTEND;TZID=America/New_York:20261117T200000
DTSTAMP:20260422T010948
CREATED:20251206T162827Z
LAST-MODIFIED:20251206T162827Z
UID:10001315-1794942000-1794945600@circlevilleoh.gov
SUMMARY:City Council Meeting
DESCRIPTION:
URL:https://circlevilleoh.gov/event/city-council-meeting-6/2026-11-17/
LOCATION:Council Chambers\, 127 S Court St\, Circleville\, OH\, 43113\, United States
CATEGORIES:Community
ORGANIZER;CN="Melissa Burns":MAILTO:mburns@circlevilleoh.gov
END:VEVENT
BEGIN:VEVENT
DTSTART;TZID=America/New_York:20261201T190000
DTEND;TZID=America/New_York:20261201T200000
DTSTAMP:20260422T010948
CREATED:20251206T162622Z
LAST-MODIFIED:20251206T162622Z
UID:10001292-1796151600-1796155200@circlevilleoh.gov
SUMMARY:City Council Meeting
DESCRIPTION:
URL:https://circlevilleoh.gov/event/city-council-meeting-5/2026-12-01/
LOCATION:Council Chambers\, 127 S Court St\, Circleville\, OH\, 43113\, United States
CATEGORIES:Community
ORGANIZER;CN="Melissa Burns":MAILTO:mburns@circlevilleoh.gov
END:VEVENT
BEGIN:VEVENT
DTSTART;TZID=America/New_York:20261215T190000
DTEND;TZID=America/New_York:20261215T200000
DTSTAMP:20260422T010948
CREATED:20251206T162827Z
LAST-MODIFIED:20251206T162827Z
UID:10001316-1797361200-1797364800@circlevilleoh.gov
SUMMARY:City Council Meeting
DESCRIPTION:
URL:https://circlevilleoh.gov/event/city-council-meeting-6/2026-12-15/
LOCATION:Council Chambers\, 127 S Court St\, Circleville\, OH\, 43113\, United States
CATEGORIES:Community
ORGANIZER;CN="Melissa Burns":MAILTO:mburns@circlevilleoh.gov
END:VEVENT
END:VCALENDAR