  

BEGIN:VCALENDAR
VERSION:2.0
PRODID:-//City of Circleville - ECPv6.15.20//NONSGML v1.0//EN
CALSCALE:GREGORIAN
METHOD:PUBLISH
X-ORIGINAL-URL:https://circlevilleoh.gov
X-WR-CALDESC:Events for City of Circleville
REFRESH-INTERVAL;VALUE=DURATION:PT1H
X-Robots-Tag:noindex
X-PUBLISHED-TTL:PT1H
BEGIN:VTIMEZONE
TZID:America/New_York
BEGIN:DAYLIGHT
TZOFFSETFROM:-0500
TZOFFSETTO:-0400
TZNAME:EDT
DTSTART:20250309T070000
END:DAYLIGHT
BEGIN:STANDARD
TZOFFSETFROM:-0400
TZOFFSETTO:-0500
TZNAME:EST
DTSTART:20251102T060000
END:STANDARD
BEGIN:DAYLIGHT
TZOFFSETFROM:-0500
TZOFFSETTO:-0400
TZNAME:EDT
DTSTART:20260308T070000
END:DAYLIGHT
BEGIN:STANDARD
TZOFFSETFROM:-0400
TZOFFSETTO:-0500
TZNAME:EST
DTSTART:20261101T060000
END:STANDARD
BEGIN:DAYLIGHT
TZOFFSETFROM:-0500
TZOFFSETTO:-0400
TZNAME:EDT
DTSTART:20270314T070000
END:DAYLIGHT
BEGIN:STANDARD
TZOFFSETFROM:-0400
TZOFFSETTO:-0500
TZNAME:EST
DTSTART:20271107T060000
END:STANDARD
END:VTIMEZONE
BEGIN:VEVENT
DTSTART;TZID=America/New_York:20260421T173000
DTEND;TZID=America/New_York:20260421T180000
DTSTAMP:20260421T151416
CREATED:20260318T033027Z
LAST-MODIFIED:20260318T033027Z
UID:10001343-1776792600-1776794400@circlevilleoh.gov
SUMMARY:Judicial Committee Meeting
DESCRIPTION:
URL:https://circlevilleoh.gov/event/judicial-committee-meeting-31/
LOCATION:Council Chambers\, 127 S Court St\, Circleville\, OH\, 43113\, United States
CATEGORIES:Community
ORGANIZER;CN="Sarah Kolesar":MAILTO:skolesar@circlevilleoh.gov
END:VEVENT
BEGIN:VEVENT
DTSTART;TZID=America/New_York:20260421T180000
DTEND;TZID=America/New_York:20260421T190000
DTSTAMP:20260421T151416
CREATED:20260312T032632Z
LAST-MODIFIED:20260312T032632Z
UID:10001340-1776794400-1776798000@circlevilleoh.gov
SUMMARY:Strategic Planning Committee Meeting
DESCRIPTION:
URL:https://circlevilleoh.gov/event/strategic-planning-committee-meeting-18/
LOCATION:Council Chambers\, 127 S Court St\, Circleville\, OH\, 43113\, United States
CATEGORIES:Community
ORGANIZER;CN="Sarah Kolesar":MAILTO:skolesar@circlevilleoh.gov
END:VEVENT
BEGIN:VEVENT
DTSTART;TZID=America/New_York:20260421T191500
DTEND;TZID=America/New_York:20260421T193000
DTSTAMP:20260421T151416
CREATED:20260407T220427Z
LAST-MODIFIED:20260407T231048Z
UID:10001351-1776798900-1776799800@circlevilleoh.gov
SUMMARY:Service Committee Meeting at 7:15 p.m. or immediately following Council.
DESCRIPTION:
URL:https://circlevilleoh.gov/event/service-committee-meeting-21/
LOCATION:Council Chambers\, 127 S Court St\, Circleville\, OH\, 43113\, United States
CATEGORIES:Community
ORGANIZER;CN="Sarah Kolesar":MAILTO:skolesar@circlevilleoh.gov
END:VEVENT
BEGIN:VEVENT
DTSTART;TZID=America/New_York:20260427T183000
DTEND;TZID=America/New_York:20260427T193000
DTSTAMP:20260421T151416
CREATED:20260415T115204Z
LAST-MODIFIED:20260415T115204Z
UID:10001352-1777314600-1777318200@circlevilleoh.gov
SUMMARY:Board of Zoning Appeals Meeting
DESCRIPTION:Notice is hereby given that the City of Circleville Board of Zoning Appeals will hold a Public Hearing on Monday\, April 27\, 2026\, at 6:30 p.m. at City Hall Council Chambers\, 2nd Fl\, 127 South Court Street\, Circleville\, Ohio 43113\, to consider the following application(s): \nChange or Continuation of Non-Conforming Use\, #1-26:\nRequested by: John R. Ankrom\, 1301 Maple Drive\, Circleville\, Ohio 43113. Property owner: James Cooksey\, 9129 E. Ringgold Fairfield Rd.\, Circleville\, Ohio 43113. Property address: 161 Edison Avenue\, Circleville\, Ohio 43113. Existing use of property: Meat processing/retail sales.\nChange requested: Expansion of existing building to include a 20’-0” x 43’-0” covered porch for weather protection. Parcel# A0541000002800 / A0541000002900\nProperty Zoning District: IE \nThe application(s) and plans are available for inspection for a period of at least 10 days prior to the hearing at the City of Circleville Service Department located at 104 East Franklin Street\, Circleville\, OH 43113. \nMichelle Cockerham\, Code Enforcement/Zoning Inspector; mcockerham@circlevilleoh.gov\nSarah Kolesar\, Assistant Clerk of Council; skolesar@circlevilleoh.gov
URL:https://circlevilleoh.gov/event/board-of-zoning-appeals-meeting-7/
LOCATION:Council Chambers\, 127 S Court St\, Circleville\, OH\, 43113\, United States
CATEGORIES:Community
ORGANIZER;CN="Sarah Kolesar":MAILTO:skolesar@circlevilleoh.gov
END:VEVENT
BEGIN:VEVENT
DTSTART;TZID=America/New_York:20260514T180000
DTEND;TZID=America/New_York:20260514T190000
DTSTAMP:20260421T151416
CREATED:20260421T164111Z
LAST-MODIFIED:20260421T164111Z
UID:10001353-1778781600-1778785200@circlevilleoh.gov
SUMMARY:Tree Commission Meeting
DESCRIPTION:
URL:https://circlevilleoh.gov/event/tree-commission-meeting-8/
LOCATION:Council Chambers\, 127 S Court St\, Circleville\, OH\, 43113\, United States
CATEGORIES:Community
ORGANIZER;CN="Sarah Kolesar":MAILTO:skolesar@circlevilleoh.gov
END:VEVENT
BEGIN:VEVENT
DTSTART;TZID=America/New_York:20260519T173000
DTEND;TZID=America/New_York:20260519T183000
DTSTAMP:20260421T151416
CREATED:20260406T172755Z
LAST-MODIFIED:20260406T172755Z
UID:10001349-1779211800-1779215400@circlevilleoh.gov
SUMMARY:Safety Committee Fire Department Tour
DESCRIPTION:
URL:https://circlevilleoh.gov/event/safety-committee-fire-department-tour/
LOCATION:Circleville Fire Department\, 586 N. Court St.\, Circleville\, 43113\, United States
CATEGORIES:Community
ORGANIZER;CN="Sarah Kolesar":MAILTO:skolesar@circlevilleoh.gov
END:VEVENT
BEGIN:VEVENT
DTSTART;TZID=America/New_York:20260519T184500
DTEND;TZID=America/New_York:20260519T190000
DTSTAMP:20260421T151416
CREATED:20260406T172912Z
LAST-MODIFIED:20260408T021512Z
UID:10001350-1779216300-1779217200@circlevilleoh.gov
SUMMARY:Safety Committee Meeting
DESCRIPTION:
URL:https://circlevilleoh.gov/event/safety-committee-meeting-13/
LOCATION:Circleville Fire Department\, 586 N. Court St.\, Circleville\, 43113\, United States
CATEGORIES:Community
ORGANIZER;CN="Sarah Kolesar":MAILTO:skolesar@circlevilleoh.gov
END:VEVENT
END:VCALENDAR