  

BEGIN:VCALENDAR
VERSION:2.0
PRODID:-//City of Circleville - ECPv6.15.20//NONSGML v1.0//EN
CALSCALE:GREGORIAN
METHOD:PUBLISH
X-ORIGINAL-URL:https://circlevilleoh.gov
X-WR-CALDESC:Events for City of Circleville
REFRESH-INTERVAL;VALUE=DURATION:PT1H
X-Robots-Tag:noindex
X-PUBLISHED-TTL:PT1H
BEGIN:VTIMEZONE
TZID:America/New_York
BEGIN:DAYLIGHT
TZOFFSETFROM:-0500
TZOFFSETTO:-0400
TZNAME:EDT
DTSTART:20240310T070000
END:DAYLIGHT
BEGIN:STANDARD
TZOFFSETFROM:-0400
TZOFFSETTO:-0500
TZNAME:EST
DTSTART:20241103T060000
END:STANDARD
BEGIN:DAYLIGHT
TZOFFSETFROM:-0500
TZOFFSETTO:-0400
TZNAME:EDT
DTSTART:20250309T070000
END:DAYLIGHT
BEGIN:STANDARD
TZOFFSETFROM:-0400
TZOFFSETTO:-0500
TZNAME:EST
DTSTART:20251102T060000
END:STANDARD
BEGIN:DAYLIGHT
TZOFFSETFROM:-0500
TZOFFSETTO:-0400
TZNAME:EDT
DTSTART:20260308T070000
END:DAYLIGHT
BEGIN:STANDARD
TZOFFSETFROM:-0400
TZOFFSETTO:-0500
TZNAME:EST
DTSTART:20261101T060000
END:STANDARD
END:VTIMEZONE
BEGIN:VEVENT
DTSTART;TZID=America/New_York:20251124T183000
DTEND;TZID=America/New_York:20251124T193000
DTSTAMP:20260421T180934
CREATED:20251108T041015Z
LAST-MODIFIED:20251108T041015Z
UID:10001257-1764009000-1764012600@circlevilleoh.gov
SUMMARY:Board of Zoning Appeals Meeting
DESCRIPTION:
URL:https://circlevilleoh.gov/event/board-of-zoning-appeals-meeting-5/
LOCATION:Council Chambers\, 127 S Court St\, Circleville\, OH\, 43113\, United States
CATEGORIES:Community
ORGANIZER;CN="Sarah Kolesar":MAILTO:skolesar@circlevilleoh.gov
END:VEVENT
BEGIN:VEVENT
DTSTART;TZID=America/New_York:20251118T180000
DTEND;TZID=America/New_York:20251118T190000
DTSTAMP:20260421T180934
CREATED:20251106T174917Z
LAST-MODIFIED:20251106T175002Z
UID:10001255-1763488800-1763492400@circlevilleoh.gov
SUMMARY:Service Committee Meeting
DESCRIPTION:
URL:https://circlevilleoh.gov/event/service-committee-meeting-at-600-p-m/
LOCATION:Council Chambers\, 127 S Court St\, Circleville\, OH\, 43113\, United States
CATEGORIES:Community
ORGANIZER;CN="Sarah Kolesar":MAILTO:skolesar@circlevilleoh.gov
END:VEVENT
BEGIN:VEVENT
DTSTART;TZID=America/New_York:20251118T174500
DTEND;TZID=America/New_York:20251118T180000
DTSTAMP:20260421T180934
CREATED:20251113T225713Z
LAST-MODIFIED:20251113T225713Z
UID:10001260-1763487900-1763488800@circlevilleoh.gov
SUMMARY:Strategic Planning Committee Meeting
DESCRIPTION:
URL:https://circlevilleoh.gov/event/strategic-planning-committee-meeting-17/
LOCATION:Council Chambers\, 127 S Court St\, Circleville\, OH\, 43113\, United States
CATEGORIES:Community
ORGANIZER;CN="Sarah Kolesar":MAILTO:skolesar@circlevilleoh.gov
END:VEVENT
BEGIN:VEVENT
DTSTART;TZID=America/New_York:20251110T183000
DTEND;TZID=America/New_York:20251110T193000
DTSTAMP:20260421T180934
CREATED:20251021T022510Z
LAST-MODIFIED:20251021T022510Z
UID:10001254-1762799400-1762803000@circlevilleoh.gov
SUMMARY:Board of Zoning Appeals Meeting
DESCRIPTION:
URL:https://circlevilleoh.gov/event/board-of-zoning-appeals-meeting-4/
LOCATION:Council Chambers\, 127 S Court St\, Circleville\, OH\, 43113\, United States
CATEGORIES:Community
ORGANIZER;CN="Sarah Kolesar":MAILTO:skolesar@circlevilleoh.gov
END:VEVENT
BEGIN:VEVENT
DTSTART;TZID=America/New_York:20251104T181500
DTEND;TZID=America/New_York:20251104T183000
DTSTAMP:20260421T180934
CREATED:20251019T164209Z
LAST-MODIFIED:20251019T164209Z
UID:10001253-1762280100-1762281000@circlevilleoh.gov
SUMMARY:Strategic Planning Committee Meeting
DESCRIPTION:
URL:https://circlevilleoh.gov/event/strategic-planning-committee-meeting-16/
LOCATION:Council Chambers\, 127 S Court St\, Circleville\, OH\, 43113\, United States
CATEGORIES:Community
ORGANIZER;CN="Sarah Kolesar":MAILTO:skolesar@circlevilleoh.gov
END:VEVENT
BEGIN:VEVENT
DTSTART;TZID=America/New_York:20251013T173000
DTEND;TZID=America/New_York:20251013T180000
DTSTAMP:20260421T180934
CREATED:20250917T213529Z
LAST-MODIFIED:20250922T214132Z
UID:10001071-1760376600-1760378400@circlevilleoh.gov
SUMMARY:Historic Review Board
DESCRIPTION:The City of Circleville Historic District Review Board will hold a Public Hearing on Monday\, October 13\, 2025\, at 5:30 p.m. in City Hall Council Chambers 2nd Fl.\, 127 South Court St.\, Circleville\, OH 43113 to hear the following requests: \nNew Business: \nCERTIFICATE OF APPROPRIATENESS #6-25\, Requested by Paige Combs\, Property address: 121 W. Main St.\, Circleville\, Ohio 43113\, Property owner: J & P Rental Properties LLC. Parcel # A0530600001400. Modify: add new design to existing sign. This is in the Downtown Business District (DB) within Historic District Overlay (HD). \nThe application and plans are available for inspection for a period of at least 10 days prior to the hearing at the City of Circleville – Service Department\, 104 East Franklin St. Circleville\, OH 43113. \nClerk: Sarah Kolesar- skolesar@circleville.oh.gov \n 
URL:https://circlevilleoh.gov/event/historic-review-board-8/
LOCATION:Council Chambers\, 127 S Court St\, Circleville\, OH\, 43113\, United States
CATEGORIES:Community
ORGANIZER;CN="Sarah Kolesar":MAILTO:skolesar@circlevilleoh.gov
END:VEVENT
BEGIN:VEVENT
DTSTART;TZID=America/New_York:20251007T191500
DTEND;TZID=America/New_York:20251007T193000
DTSTAMP:20260421T180934
CREATED:20250916T232459Z
LAST-MODIFIED:20250916T234606Z
UID:10001068-1759864500-1759865400@circlevilleoh.gov
SUMMARY:Service Committee Meeting at 7:15 p.m. or immediately following City Council
DESCRIPTION:
URL:https://circlevilleoh.gov/event/service-committee-meeting-at-730-p-m-or-immediately-following-city-council/
LOCATION:Council Chambers\, 127 S Court St\, Circleville\, OH\, 43113\, United States
CATEGORIES:Community
ORGANIZER;CN="Sarah Kolesar":MAILTO:skolesar@circlevilleoh.gov
END:VEVENT
BEGIN:VEVENT
DTSTART;TZID=America/New_York:20251007T173000
DTEND;TZID=America/New_York:20251007T183000
DTSTAMP:20260421T180934
CREATED:20250904T023518Z
LAST-MODIFIED:20250904T023518Z
UID:10001063-1759858200-1759861800@circlevilleoh.gov
SUMMARY:Service Committee Water Treatment Plant Tour
DESCRIPTION:
URL:https://circlevilleoh.gov/event/service-committee-water-treatment-plant-tour/
CATEGORIES:Community
ORGANIZER;CN="Sarah Kolesar":MAILTO:skolesar@circlevilleoh.gov
END:VEVENT
BEGIN:VEVENT
DTSTART;TZID=America/New_York:20251006T173000
DTEND;TZID=America/New_York:20251006T180000
DTSTAMP:20260421T180934
CREATED:20250922T222853Z
LAST-MODIFIED:20250922T222854Z
UID:10001072-1759771800-1759773600@circlevilleoh.gov
SUMMARY:Historic Review Board Special Meeting
DESCRIPTION:The City of Circleville Historic District Review Board will hold a Public Hearing on Monday\, October 06\, 2025\, at 5:30 p.m. in City Hall Council Chambers 2nd Fl.\, 127 South Court St.\, Circleville\, OH 43113 to hear the following requests: \nNew Business: \nCERTIFICATE OF APPROPRIATENESS #6-25\, Requested by Paige Combs\, Property address: 121 W. Main St.\, Circleville\, Ohio 43113\, Property owner: J & P Rental Properties LLC. Parcel # A0530600001400. Modify: add new design to existing sign. This is in the Downtown Business District (DB) within Historic District Overlay (HD). \nCERTIFICATE OF APPROPRIATENESS #7-25\, Requested by Morgan Muncy\, 224 Clark Drive\, Circleville\, Ohio 43113. Property address: 155 W. Main St.\, Circleville\, Ohio 43113\, Property owner: Keith & Terry Dumm. Parcel # A0530600002600. Modify: Exchanging old company sign with the new store sign\, in the same location and the same size\, then adding two vinyl logos to the window. This is in the Downtown Business District (DB) within Historic District Overlay (HD). \nThe application and plans are available for inspection for a period of at least 10 days prior to the hearing at the City of Circleville – Service Department\, 104 East Franklin St. Circleville\, OH 43113. \nClerk: Sarah Kolesar- skolesar@circleville.oh.gov \n 
URL:https://circlevilleoh.gov/event/historic-review-board-special-meeting/
LOCATION:Council Chambers\, 127 S Court St\, Circleville\, OH\, 43113\, United States
CATEGORIES:Community
ORGANIZER;CN="Sarah Kolesar":MAILTO:skolesar@circlevilleoh.gov
END:VEVENT
BEGIN:VEVENT
DTSTART;TZID=America/New_York:20250930T184500
DTEND;TZID=America/New_York:20250930T190000
DTSTAMP:20260421T180934
CREATED:20250928T012158Z
LAST-MODIFIED:20250928T012158Z
UID:10001076-1759257900-1759258800@circlevilleoh.gov
SUMMARY:Judicial Committee Meeting
DESCRIPTION:
URL:https://circlevilleoh.gov/event/judicial-committee-meeting-27/
LOCATION:Council Chambers\, 127 S Court St\, Circleville\, OH\, 43113\, United States
CATEGORIES:Community
ORGANIZER;CN="Sarah Kolesar":MAILTO:skolesar@circlevilleoh.gov
END:VEVENT
BEGIN:VEVENT
DTSTART;TZID=America/New_York:20250930T183000
DTEND;TZID=America/New_York:20250930T184500
DTSTAMP:20260421T180934
CREATED:20250928T011540Z
LAST-MODIFIED:20250928T011540Z
UID:10001075-1759257000-1759257900@circlevilleoh.gov
SUMMARY:Strategic Planning Committee Meeting
DESCRIPTION:
URL:https://circlevilleoh.gov/event/strategic-planning-committee-meeting-15/
LOCATION:Council Chambers\, 127 S Court St\, Circleville\, OH\, 43113\, United States
CATEGORIES:Community
ORGANIZER;CN="Sarah Kolesar":MAILTO:skolesar@circlevilleoh.gov
END:VEVENT
BEGIN:VEVENT
DTSTART;TZID=America/New_York:20250917T183000
DTEND;TZID=America/New_York:20250917T193000
DTSTAMP:20260421T180934
CREATED:20250904T024454Z
LAST-MODIFIED:20250904T024717Z
UID:10001064-1758133800-1758137400@circlevilleoh.gov
SUMMARY:Board of Zoning Appeals Meeting
DESCRIPTION:
URL:https://circlevilleoh.gov/event/board-of-zoning-appeals-meeting-3/
LOCATION:Council Chambers\, 127 S Court St\, Circleville\, OH\, 43113\, United States
CATEGORIES:Community
ORGANIZER;CN="Sarah Kolesar":MAILTO:skolesar@circlevilleoh.gov
END:VEVENT
BEGIN:VEVENT
DTSTART;TZID=America/New_York:20250911T190000
DTEND;TZID=America/New_York:20250911T191500
DTSTAMP:20260421T180934
CREATED:20250909T172220Z
LAST-MODIFIED:20250909T172220Z
UID:10001065-1757617200-1757618100@circlevilleoh.gov
SUMMARY:Judicial Committee Meeting
DESCRIPTION:
URL:https://circlevilleoh.gov/event/judicial-committee-meeting-25/
LOCATION:Council Chambers\, 127 S Court St\, Circleville\, OH\, 43113\, United States
CATEGORIES:Community
ORGANIZER;CN="Sarah Kolesar":MAILTO:skolesar@circlevilleoh.gov
END:VEVENT
BEGIN:VEVENT
DTSTART;TZID=America/New_York:20250908T183000
DTEND;TZID=America/New_York:20250908T193000
DTSTAMP:20260421T180934
CREATED:20250820T154845Z
LAST-MODIFIED:20250904T024801Z
UID:10001059-1757356200-1757359800@circlevilleoh.gov
SUMMARY:Board of Zoning Appeals Meeting
DESCRIPTION:
URL:https://circlevilleoh.gov/event/board-of-zoning-appeals-meeting-2/
LOCATION:Council Chambers\, 127 S Court St\, Circleville\, OH\, 43113\, United States
CATEGORIES:Community
ORGANIZER;CN="Sarah Kolesar":MAILTO:skolesar@circlevilleoh.gov
END:VEVENT
BEGIN:VEVENT
DTSTART;TZID=America/New_York:20250902T174500
DTEND;TZID=America/New_York:20250902T180000
DTSTAMP:20260421T180934
CREATED:20250828T171347Z
LAST-MODIFIED:20250828T171347Z
UID:10001061-1756835100-1756836000@circlevilleoh.gov
SUMMARY:Service Committee Meeting
DESCRIPTION:
URL:https://circlevilleoh.gov/event/service-committee-meeting-17/
LOCATION:Council Chambers\, 127 S Court St\, Circleville\, OH\, 43113\, United States
CATEGORIES:Community
ORGANIZER;CN="Sarah Kolesar":MAILTO:skolesar@circlevilleoh.gov
END:VEVENT
BEGIN:VEVENT
DTSTART;TZID=America/New_York:20250729T170000
DTEND;TZID=America/New_York:20250729T183000
DTSTAMP:20260421T180934
CREATED:20250716T010808Z
LAST-MODIFIED:20250716T010808Z
UID:10001053-1753808400-1753813800@circlevilleoh.gov
SUMMARY:Finance Committee Meeting
DESCRIPTION:
URL:https://circlevilleoh.gov/event/finance-committee-meeting-25/
LOCATION:Council Chambers\, 127 S Court St\, Circleville\, OH\, 43113\, United States
CATEGORIES:Community
ORGANIZER;CN="Sarah Kolesar":MAILTO:skolesar@circlevilleoh.gov
END:VEVENT
BEGIN:VEVENT
DTSTART;TZID=America/New_York:20250701T183000
DTEND;TZID=America/New_York:20250701T190000
DTSTAMP:20260421T180934
CREATED:20250528T234214Z
LAST-MODIFIED:20250627T170645Z
UID:10001034-1751394600-1751396400@circlevilleoh.gov
SUMMARY:Service Committee Meeting
DESCRIPTION:
URL:https://circlevilleoh.gov/event/service-committee-meeting-16/
LOCATION:Council Chambers\, 127 S Court St\, Circleville\, OH\, 43113\, United States
CATEGORIES:Community
ORGANIZER;CN="Sarah Kolesar":MAILTO:skolesar@circlevilleoh.gov
END:VEVENT
BEGIN:VEVENT
DTSTART;TZID=America/New_York:20250624T183000
DTEND;TZID=America/New_York:20250624T190000
DTSTAMP:20260421T180934
CREATED:20250618T192128Z
LAST-MODIFIED:20250618T192128Z
UID:10001041-1750789800-1750791600@circlevilleoh.gov
SUMMARY:Judicial Committee Meeting
DESCRIPTION:
URL:https://circlevilleoh.gov/event/judicial-committee-meeting-22/
LOCATION:Council Chambers\, 127 S Court St\, Circleville\, OH\, 43113\, United States
CATEGORIES:Community
ORGANIZER;CN="Sarah Kolesar":MAILTO:skolesar@circlevilleoh.gov
END:VEVENT
BEGIN:VEVENT
DTSTART;TZID=America/New_York:20250624T180000
DTEND;TZID=America/New_York:20250624T183000
DTSTAMP:20260421T180934
CREATED:20250604T033916Z
LAST-MODIFIED:20250604T033916Z
UID:10001037-1750788000-1750789800@circlevilleoh.gov
SUMMARY:Finance Committee Meeting
DESCRIPTION:
URL:https://circlevilleoh.gov/event/finance-committee-meeting-24/
LOCATION:Council Chambers\, 127 S Court St\, Circleville\, OH\, 43113\, United States
CATEGORIES:Community
ORGANIZER;CN="Sarah Kolesar":MAILTO:skolesar@circlevilleoh.gov
END:VEVENT
BEGIN:VEVENT
DTSTART;TZID=America/New_York:20250610T184500
DTEND;TZID=America/New_York:20250610T190000
DTSTAMP:20260421T180934
CREATED:20250604T033806Z
LAST-MODIFIED:20250604T033806Z
UID:10001036-1749581100-1749582000@circlevilleoh.gov
SUMMARY:City Council Meeting
DESCRIPTION:
URL:https://circlevilleoh.gov/event/city-council-meeting-4/
LOCATION:Council Chambers\, 127 S Court St\, Circleville\, OH\, 43113\, United States
CATEGORIES:Community
ORGANIZER;CN="Sarah Kolesar":MAILTO:skolesar@circlevilleoh.gov
END:VEVENT
END:VCALENDAR